BEGIN:VCALENDAR
VERSION:2.0
CALSCALE:GREGORIAN
METHOD:REQUEST
PRODID:Erie Events
BEGIN:VEVENT
UID: 288469e73a793f40f@
SUMMARY:Boogie On The Bay New Year&#039;s Eve Party
DTSTAMP:20260421T045105
DTSTART:20241231T210000
DTEND:20241231T010000
LOCATION:1 Sassafras Pier Erie, PA 16507
DESCRIPTION:December 31, 2024<br />
9:00pm-1:00am<br />
<br />
Bayfront Convention Center<br />
<br />
4 Drink Tickets<br />
Hors d&#039; oeuvres<br />
Champagne Toast<br />
Live Music by The Chozen Few<br />
360 Photobooth<br />
<br />
Tickets can be purchased by clicking below, by calling (814) 452-4857 or in person at the Erie Insurance Arena box office. <br />
$87.00<br />
<br />
BUY TICKETS<br />
<br />
Guestrooms available at the Courtyard and Sheraton Erie Bayfront Hotels<br />
<br />
BOOK HOTEL ROOM<br />
<br />
 
STATUS:CONFIRMED
SEQUENCE:3
END:VEVENT
END:VCALENDAR