BEGIN:VCALENDAR
VERSION:2.0
CALSCALE:GREGORIAN
METHOD:REQUEST
PRODID:Erie Events
BEGIN:VEVENT
UID: 1712869e7e4a207a72@
SUMMARY:John P. Kee &amp; Le&#039;Andria Johnson
DTSTAMP:20260421T165706
DTSTART:20241019T183000
DTEND:20241019T183000
LOCATION:811 State Street Erie, PA 16501
DESCRIPTION:October 19, 2024<br />
Show 6:30pm<br />
Doors 5:00pm<br />
<br />
Warner Theatre<br />
<br />
Top Floor Promotions presents<br />
An Evening of Praise<br />
John P. Kee &amp; Le’Andria Johnson<br />
<br />
Tickets $72.00, $62.00, $52.00, $37.00 &amp; can be purchased at the Erie Insurance Arena box office or by calling (814) 452-4857<br />
<br />
BUY NOW! 
STATUS:CONFIRMED
SEQUENCE:3
END:VEVENT
END:VCALENDAR