BEGIN:VCALENDAR
VERSION:2.0
CALSCALE:GREGORIAN
METHOD:REQUEST
PRODID:Erie Events
BEGIN:VEVENT
UID: 799069ea066b85862@
SUMMARY:Sesame Street Live! Say Hello **CANCELLED**
DTSTAMP:20260423T074547
DTSTART:20241203T180000
DTEND:20241203T180000
LOCATION:811 State Street Erie, PA 16501
DESCRIPTION:December 3, 2024<br />
Show 6:00pm<br />
Doors 5:00pm<br />
<br />
** CANCELLED ** <br />
<br />
Thank you for your support of Sesame Street Live! Say Hello. Due to unforeseen circumstances, we regret to inform you that this performance of Sesame Street Live! Say Hello Tour on December 3 in Erie, PA has been cancelled. If you have purchased tickets for this performance, your refund will be automatically processed via your point of purchase. We apologize for any inconvenience this may cause. For any questions or concerns, please call the Box Office at (814) 452-4857. Box Office hours are Monday-Friday 10am-5:30pm, Saturday 10am-2:00pm
STATUS:CONFIRMED
SEQUENCE:3
END:VEVENT
END:VCALENDAR