BEGIN:VCALENDAR
VERSION:2.0
CALSCALE:GREGORIAN
METHOD:REQUEST
PRODID:Erie Events
BEGIN:VEVENT
UID: 1389069e73fa240eb1@
SUMMARY:Comicon Erie
DTSTAMP:20260421T051306
DTSTART:20240922T110000
DTEND:20240922T160000
LOCATION:1 Sassafras Pier Erie, PA 16507
DESCRIPTION:September 20, 2024<br />
2pm-7pm<br />
September 21, 2024<br />
10am-7pm<br />
September 22, 2024<br />
11am-4pm<br />
<br />
Bayfront Convention Center<br />
<br />
For more information, visit www.eriepromotions.com
STATUS:CONFIRMED
SEQUENCE:3
END:VEVENT
END:VCALENDAR