BEGIN:VCALENDAR
VERSION:2.0
CALSCALE:GREGORIAN
METHOD:REQUEST
PRODID:Erie Events
BEGIN:VEVENT
UID: 50969e9eff672905@
SUMMARY:Judy Collins
DTSTAMP:20260423T060958
DTSTART:20241029T193000
DTEND:20241029T193000
LOCATION:811 State Street Erie, PA 16501
DESCRIPTION:October 29, 2024<br />
Show 7:30pm<br />
Doors 6:30pm<br />
<br />
Warner Theatre<br />
<br />
In her 50-plus years in music, Judy Collins has always exhibited impeccable taste in songcraft. On her landmark 1967 album, Wildflowers, she curated a stunning collection featuring originals alongside songs by not-yet household names such as Joni Mitchell and Leonard Cohen, and adventurous selections by Jacques Brel and Francesco Landini. Her discerning palette, and her literary gifts, have enabled her to evolve into a poetic, storyteller songwriter. Now, in her 6th decade as a singer and songwriter, Judy is experiencing a profound level of growth and prolific creativity.<br />
<br />
PLATINUM SEATS<br />
<br />
BUY NOW! <br />
<br />
Tickets are $64.50, $49.50, $34.50, $27.50 and can be purchased at the Erie Insurance Arena box office or by calling (814) 452-4857<br />
<br />
BUY NOW! 
STATUS:CONFIRMED
SEQUENCE:3
END:VEVENT
END:VCALENDAR