BEGIN:VCALENDAR
VERSION:2.0
CALSCALE:GREGORIAN
METHOD:REQUEST
PRODID:Erie Events
BEGIN:VEVENT
UID: 921869e70d2b1c998@
SUMMARY:The Cher Show
DTSTAMP:20260421T013747
DTSTART:20250225T193000
DTEND:20250225T193000
LOCATION:811 State Street Erie, PA 16501
DESCRIPTION:presents<br />
<br />
February 25 &amp; 26, 2025<br />
Show 7:30pm<br />
Doors 6:30pm<br />
<br />
Warner Theatre<br />
<br />
Superstars come and go. Cher is forever. For six straight decades, only one unstoppable force has flat-out dominated popular culture – breaking down barriers, pushing boundaries and letting nothing and no one stand in her way. THE CHER SHOW is the Tony Award®-winning musical of her story, and it’s packed with so much Cher that it takes three women to play her: the kid starting out, the glam pop star, and the icon. THE CHER SHOW is 35 smash hits, six decades of stardom, two rock-star husbands, a Grammy®, an Oscar®, an Emmy®, and enough Tony Award-winning Bob Mackie gowns to cause a sequin shortage in New York City, all in one unabashedly fabulous new musical that will have audiences dancing in the aisles!<br />
<br />
 <br />
<br />
Tickets $79.00, $69.00, $59.00, $49.00.<br />
<br />
Purchase at the Erie Insurance Arena box office or by calling (814) 452-4857<br />
<br />
BUY NOW<br />
<br />
 
STATUS:CONFIRMED
SEQUENCE:3
END:VEVENT
END:VCALENDAR