BEGIN:VCALENDAR
VERSION:2.0
CALSCALE:GREGORIAN
METHOD:REQUEST
PRODID:Erie Events
BEGIN:VEVENT
UID: 218069e84e64845af@
SUMMARY:Erie Otters vs. Flint *POSTPONED*
DTSTAMP:20260422T002820
DTSTART:20241130T190000
DTEND:20241130T190000
LOCATION:809 French St. Erie, PA 16501
DESCRIPTION:*POSTPONED*Postponed due to inclement weather. Makeup date TBD.<br />
<br />
Tickets will be honored for the makeup game, or you can exchange them for another game with the exception of Dec. 31st and Jan. 10th.<br />
www.ottershockey.com<br />
<br />
BUY NOW!
STATUS:CONFIRMED
SEQUENCE:3
END:VEVENT
END:VCALENDAR