BEGIN:VCALENDAR
VERSION:2.0
CALSCALE:GREGORIAN
METHOD:REQUEST
PRODID:Erie Events
BEGIN:VEVENT
UID: 524069e77e858e85b@
SUMMARY:REIGNMAKER &amp; New Wave Nation
DTSTAMP:20260421T094125
DTSTART:20240827T183000
DTEND:20240827T213000
LOCATION:
DESCRIPTION:Tuesday, August 27, 2024<br />
6:30pm-9:30pm<br />
<br />
Highmark Amphitheater at Liberty Park<br />
<br />
Opening: PianoPunk<br />
<br />
Free Live Music<br />
Featuring an array of local vendors<br />
<br />
Complimentary shuttle service available starting at 5:30pm from the Erie Intermodal Complex near the intersection of Holland Street and the Bayfront Parkway and Hoffman Transportation Hub near the intersection of 12th Street and Lincoln Avenue<br />
<br />
Detailed information can be found HERE
STATUS:CONFIRMED
SEQUENCE:3
END:VEVENT
END:VCALENDAR