BEGIN:VCALENDAR
VERSION:2.0
CALSCALE:GREGORIAN
METHOD:REQUEST
PRODID:Erie Events
BEGIN:VEVENT
UID: 755669ea80108f135@
SUMMARY:Verdi Requiem
DTSTAMP:20260423T162448
DTSTART:20250510T193000
DTEND:20250510T193000
LOCATION:811 State Street Erie, PA 16501
DESCRIPTION:May 10, 2025<br />
7:30pm<br />
<br />
Warner Theatre<br />
<br />
An Erie Philharmonic Symphonic Concert<br />
<br />
Concluding our season, experience the emotional depth of Verdi&#039;s Requiem, an epic masterpiece familiar to everyone (trust us, look it up). The program also features Takemitsu&#039;s Funeral Music from Black Rain, an evocative piece that paints a landscape of introspection and solemn beauty. This season finale is not just a concert but a powerful tribute to the human spirit, promising an unforgettable evening of reflection and grandeur.<br />
<br />
For more information, www.eriephil.org
STATUS:CONFIRMED
SEQUENCE:3
END:VEVENT
END:VCALENDAR