BEGIN:VCALENDAR
VERSION:2.0
CALSCALE:GREGORIAN
METHOD:REQUEST
PRODID:Erie Events
BEGIN:VEVENT
UID: 815169e73f44c2146@
SUMMARY:Frozen in Concert
DTSTAMP:20260421T051132
DTSTART:20241117T150000
DTEND:20241117T150000
LOCATION:811 State Street Erie, PA 16501
DESCRIPTION:November 16, 2024<br />
7:30pm<br />
November 17, 2024<br />
3:00pm<br />
<br />
Warner Theatre<br />
<br />
An Erie Philharmonic Pops Concert <br />
<br />
All your favorites are here— Do You Want to Build a Snowman?, Let It Go, For the First Time in Forever, and more—performed by the Erie Philharmonic as the movie is projected on screen above the orchestra!<br />
<br />
For more information, www.eriephil.org
STATUS:CONFIRMED
SEQUENCE:3
END:VEVENT
END:VCALENDAR