BEGIN:VCALENDAR
VERSION:2.0
CALSCALE:GREGORIAN
METHOD:REQUEST
PRODID:Erie Events
BEGIN:VEVENT
UID: 9869e6e8f49493b@
SUMMARY:Straight No Chaser- POSTPONED 12/9
DTSTAMP:20260420T230316
DTSTART:20241209T193000
DTEND:20241209T193000
LOCATION:811 State Street Erie, PA 16501
DESCRIPTION:POSTPONED TO 12/9<br />
<br />
December 9, 2024<br />
Show 7:30pm<br />
Doors 6:30pm<br />
<br />
Warner Theatre<br />
<br />
If the phrase “male a cappella group” conjures up an image of students in blue blazers, ties, and khakis singing traditional college songs on ivied campuses... think again. Straight No Chaser (SNC) are neither strait-laced nor straight-faced, but neither are they vaudeville-style kitsch. They have emerged as a phenomenon with a massive fanbase and a long list of accomplishments including 2 RIAA Gold Certified albums, over 1.5 million concert tickets sold, over 1 billion streams on Pandora, and over 2 million albums sold worldwide. Straight No Chaser is the real deal, the captivating sound of nine unadulterated human voices coming together to make extraordinary music that is moving people in a fundamental sense... and with a sense of humor.<br />
<br />
Tickets are $76.75, $71.75, $61.25 &amp; $40.75 and can be purchased at the Erie Insurance Arena box office or by calling (814) 452-4857<br />
<br />
BUY NOW! <br />
<br />
 
STATUS:CONFIRMED
SEQUENCE:3
END:VEVENT
END:VCALENDAR