BEGIN:VCALENDAR
VERSION:2.0
CALSCALE:GREGORIAN
METHOD:REQUEST
PRODID:Erie Events
BEGIN:VEVENT
UID: 848969e76458b42ed@
SUMMARY:Marguerite&#039;s Academy of Dance Annual Dance Concert
DTSTAMP:20260421T074944
DTSTART:20240615T190000
DTEND:20240615T190000
LOCATION:
DESCRIPTION:Friday, June 14, 2024<br />
7:00pm<br />
Saturday, June 15, 2024<br />
7:00pm<br />
<br />
Warner Theatre<br />
<br />
Tickets are $30.00 &amp; can be purchased at the Erie Insurance Arena box office or by calling (814) 452-4857<br />
<br />
Buy Friday Tickets Now<br />
<br />
Buy Saturday Tickets Now<br />
<br />
 
STATUS:CONFIRMED
SEQUENCE:3
END:VEVENT
END:VCALENDAR