BEGIN:VCALENDAR
VERSION:2.0
CALSCALE:GREGORIAN
METHOD:REQUEST
PRODID:Erie Events
BEGIN:VEVENT
UID: 397969e73f1135c2a@
SUMMARY:Long’s Annual Dance Concert
DTSTAMP:20260421T051041
DTSTART:20240607T190000
DTEND:20240607T190000
LOCATION:
DESCRIPTION:Friday, June 7, 2024<br />
 7:00pm<br />
Saturday, June 8, 2024<br />
7:00pm<br />
<br />
Warner Theatre<br />
<br />
Tickets are $30.00 &amp; can be purchased at the Erie Insurance Arena box office or by calling (814) 452-4857<br />
<br />
BUY FRIDAY TICKETS NOW!<br />
<br />
BUY SATURDAY TICKETS NOW!  
STATUS:CONFIRMED
SEQUENCE:3
END:VEVENT
END:VCALENDAR