BEGIN:VCALENDAR
VERSION:2.0
CALSCALE:GREGORIAN
METHOD:REQUEST
PRODID:Erie Events
BEGIN:VEVENT
UID: 411069e7929c194a8@
SUMMARY:Erie SeaWolves vs. Akron
DTSTAMP:20260421T110708
DTSTART:20240818T133500
DTEND:20240818T133500
LOCATION:
DESCRIPTION:August 13, 2024; 6:05pm<br />
August 14, 2024; 6:05pm<br />
August 15, 2024; 6:05pm<br />
August 16, 2024; 6:05pm<br />
August 17, 2024; 6:05pm<br />
August 18, 2024; 1:35pm<br />
<br />
UPMC Park<br />
<br />
For tickets, www.seawolves.com
STATUS:CONFIRMED
SEQUENCE:3
END:VEVENT
END:VCALENDAR