BEGIN:VCALENDAR
VERSION:2.0
CALSCALE:GREGORIAN
METHOD:REQUEST
PRODID:Erie Events
BEGIN:VEVENT
UID: 347569e77ff8b8ab2@
SUMMARY:Erie SeaWolves vs. Akron
DTSTAMP:20260421T094736
DTSTART:20240816T180500
DTEND:20240816T180500
LOCATION:
DESCRIPTION:August 13, 2024; 6:05pm<br />
August 14, 2024; 6:05pm<br />
August 15, 2024; 6:05pm<br />
August 16, 2024; 6:05pm<br />
August 17, 2024; 6:05pm<br />
August 18, 2024; 1:35pm<br />
<br />
UPMC Park<br />
<br />
For tickets, www.seawolves.com
STATUS:CONFIRMED
SEQUENCE:3
END:VEVENT
END:VCALENDAR