BEGIN:VCALENDAR
VERSION:2.0
CALSCALE:GREGORIAN
METHOD:REQUEST
PRODID:Erie Events
BEGIN:VEVENT
UID: 1746069e9bace9b48d@
SUMMARY:Erie SeaWolves vs. Akron
DTSTAMP:20260423T022310
DTSTART:20240705T183500
DTEND:20240705T183500
LOCATION:
DESCRIPTION: <br />
<br />
July 4, 2024; 6:35pm<br />
July 5, 2024; 6:35pm<br />
July 6, 2024; 6:05pm<br />
<br />
UPMC Park<br />
<br />
For tickets, www.seawolves.com
STATUS:CONFIRMED
SEQUENCE:3
END:VEVENT
END:VCALENDAR