BEGIN:VCALENDAR
VERSION:2.0
CALSCALE:GREGORIAN
METHOD:REQUEST
PRODID:Erie Events
BEGIN:VEVENT
UID: 164569eabaaf255a6@
SUMMARY:In This Moment: The Godmode Tour
DTSTAMP:20260423T203455
DTSTART:20240517T183000
DTEND:20240517T183000
LOCATION:
DESCRIPTION:Friday, May 17, 2024<br />
Show 6:30pm<br />
Doors 5:30pm<br />
<br />
Erie Insurance Arena<br />
<br />
With Special Guests Kim Dracula &amp; Mike&#039;s Dead<br />
<br />
With a Grammy nomination (“The In-Between,” 2021), platinum and gold record sales, multiple Top 25 entries on the Billboard Top 200 (“Black Widow” and “Ritual”), hits including “Whore,” “Blood,” and ”Adrenalize” and career streams of more than 1.3 billion, you’d think In This Moment might rest on their laurels. Instead, they’ve created GODMODE, 10 dynamic songs that mark a new high for the quintet, further cementing their legacy in the heavy music world. Proof positive is in GODMODE’s first single, the industrial-heavy yet ultra-melodic “THE PURGE,” and its darkly cinematic video directed by Jensen Noen (Bring Me The Horizon, Demi Lovato). From the portentous start of the ‘90s-tinged “GODMODE” with Maria Brink’s powerful primal scream to the pitch-perfect cover of Bjork’s 1995 “Army of Me” to the impassioned pain to partnership in “EVERYTHING STARTS AND ENDS WITH YOU,” GODMODE is a cut above.<br />
<br />
The L.A.-based band’s eighth album finds vocalist Maria Brink and guitarist Chris Howorth writing the most powerful songs of their career. “We’re always striving for reinvention and growth. It’s been 10 years since our Blood album, and there&#039;s been a lot of transitions happening, this year particularly, but it all felt so meant to be,” explains Brink. <br />
<br />
Top talent aided and abetted In this Moment; Spencer Charnas from Ice Nine Kills guests on the pointed and pained “DAMAGED,” and several songs were co-written with Tyler Bates, the award-winning producer and composer of numerous film, television, and video game scores. In fact, the initial collaboration with Bates, the moody, haunting mid-tempo winner “I WOULD DIE FOR YOU” ended up both on the John Wick: Chapter 4 soundtrack and as the last cut on GODMODE.<br />
<br />
All ages show<br />
<br />
FLOOR IS GA STANDING ROOM ONLY<br />
<br />
Inthismomentofficial.com<br />
<br />
Tickets are $75.00, $65.00, $55.00 &amp; can be purchased at the Erie Insurance Arena box office or by calling (814) 452-4857.<br />
<br />
BUY NOW!<br />
<br />
 
STATUS:CONFIRMED
SEQUENCE:3
END:VEVENT
END:VCALENDAR