BEGIN:VCALENDAR
VERSION:2.0
CALSCALE:GREGORIAN
METHOD:REQUEST
PRODID:Erie Events
BEGIN:VEVENT
UID: 650769ea63f650453@
SUMMARY:Theo Von: Return Of The Rat
DTSTAMP:20260423T142454
DTSTART:20240210T190000
DTEND:20240210T190000
LOCATION:
DESCRIPTION:February 10, 2024<br />
Show 7:00pm<br />
Doors 6:00pm<br />
<br />
Warner Theatre<br />
<br />
THEO VON grew up in the stray animal belt of southern Louisiana. He was a child there and became an adult slowly there.<br />
<br />
He can be seen and heard weekly on his widely popular podcasts that garner millions of listens/views a month THIS PAST WEEKEND, and KING AND THE STING.<br />
<br />
Theo’s new comedy special REGULAR PEOPLE was filmed at the historic Ryman Auditorium in Nashville, TN and is now streaming on Netflix.<br />
<br />
In the Spring of 2020 Theo completed his two-year DARK ARTS TOUR, which took him across America, Australia, and Europe, and another country. He’s currently on the road with his RETURN OF THE RAT TOUR.<br />
<br />
If you want to know how Theo is doing, he is probably doing the best he can, which varies.<br />
<br />
Tickets can be purchased at the Erie Insurance Arena box office or by calling (814) 452-4857<br />
<br />
There is a delivery delay on all tickets until 2 weeks prior to the show date. <br />
<br />
Tickets will be delivered 2 weeks prior to show date<br />
<br />
PLATINUM SEATING<br />
Available 1/24 10am<br />
<br />
BUY NOW!<br />
<br />
PUBLIC SALE<br />
Available 1/26 @ 10am<br />
<br />
BUY NOW!<br />
<br />
 
STATUS:CONFIRMED
SEQUENCE:3
END:VEVENT
END:VCALENDAR