BEGIN:VCALENDAR
VERSION:2.0
CALSCALE:GREGORIAN
METHOD:REQUEST
PRODID:Erie Events
BEGIN:VEVENT
UID: 231969e8a510dbc6b@
SUMMARY:RV and Outdoor Adventure Expo
DTSTAMP:20260422T063808
DTSTART:20240216T120000
DTEND:20240216T200000
LOCATION:
DESCRIPTION:February 16, 2024<br />
12:00pm - 8:00pm<br />
<br />
February 17, 2024<br />
10:00am - 8:00pm<br />
<br />
February 18, 2024<br />
10:00am - 4:00pm<br />
<br />
Bayfront Convention Center<br />
<br />
Presented by Erie Promotions &amp; Expos Inc. <br />
<br />
$7.00 at the door <br />
$6.00 online<br />
Children 10 &amp; under are free
STATUS:CONFIRMED
SEQUENCE:3
END:VEVENT
END:VCALENDAR