BEGIN:VCALENDAR
VERSION:2.0
CALSCALE:GREGORIAN
METHOD:REQUEST
PRODID:Erie Events
BEGIN:VEVENT
UID: 390269ea68c3b9b37@
SUMMARY:Bayfront Brawl 14
DTSTAMP:20260423T144523
DTSTART:20231122T180000
DTEND:20231122T180000
LOCATION:
DESCRIPTION:November 22, 2023<br />
<br />
Boxing 6:00pm<br />
MMA 8:00pm<br />
Doors 5:00pm<br />
<br />
Tables $750.00 <br />
Tables must be purchased in person at the Erie Insurance Arena box office or by calling (814) 452-4857<br />
<br />
VIP tickets $65.00<br />
General Admission $35.00<br />
<br />
BUY VIP OR GENERAL ADMISSION TICKETS NOW! 
STATUS:CONFIRMED
SEQUENCE:3
END:VEVENT
END:VCALENDAR