BEGIN:VCALENDAR
VERSION:2.0
CALSCALE:GREGORIAN
METHOD:REQUEST
PRODID:Erie Events
BEGIN:VEVENT
UID: 287069ebe0b9ec061@
SUMMARY:AHN Saint Vincent Festival Of Trees
DTSTAMP:20260424T172929
DTSTART:20231126T090000
DTEND:20231126T170000
LOCATION:
DESCRIPTION:Friday, November 24, 2023<br />
9:00am-8:00pm<br />
Saturday, November 25, 2023<br />
9:00am-6:00pm<br />
Sunday, November 26, 2023<br />
9:00am-5:00pm<br />
<br />
Bayfront Convention Center<br />
<br />
AHN Saint Vincent Hospital is excited to announce the 39th Annual Festival of Trees at the Bayfront Convention Center November 24th – November 26th. Festival of Trees is a community tradition featuring a gallery of uniquely decorated trees, local entertainment, live reindeer from noon to 5:00pm each day, holiday displays and rooms from Santa’s castle. Returning to the event is a teddy bear clinic where children can have a bear examined by Saint Vincent Hospital’s team of teddy bear specialists. Bring a bear of your own, or take home one of ours with a donation.<br />
<br />
If you’re interested in sponsoring a tree or would like more event information visit www.supportahn.org/festival<br />
<br />
Adults $10.00 <br />
Children $7.00 (12 and under)<br />
<br />
BUY FESTIVAL OF TREES TICKETS NOW! <br />
<br />
AHN SAINT VINCENT FESTIVAL AFTER DARK<br />
<br />
Saturday, November 25, 2023<br />
7:00pm-11:00pm<br />
<br />
Bayfront Convention Center<br />
<br />
Join us for dancing to The Groove in the Gallery of Trees, tastings of local spirits, a festive feast of appetizers and holiday fun all to support nurse education! Cocktail attire requested. Two drink tickets included with event ticket.<br />
<br />
$75 general admission<br />
<br />
Tickets must be purchased in advance. On sale now at www.supportahn.org/festival<br />
<br />
 <br />
<br />
The 2023 Festival of Trees will benefit both AHN Saint Vincent Hospital and Children’s Miracle Network.<br />
<br />
 
STATUS:CONFIRMED
SEQUENCE:3
END:VEVENT
END:VCALENDAR