BEGIN:VCALENDAR
VERSION:2.0
CALSCALE:GREGORIAN
METHOD:REQUEST
PRODID:Erie Events
BEGIN:VEVENT
UID: 397269e9faaf6e21c@
SUMMARY:Erie Otters Pre-Season Game vs Brantford
DTSTAMP:20260423T065543
DTSTART:20230901T190000
DTEND:20230901T190000
LOCATION:
DESCRIPTION:September 1, 2023<br />
7:00pm<br />
<br />
Erie Insurance Arena<br />
<br />
www.ottershockey.com<br />
<br />
Tickets can be purchased at the Erie Insurance Arena box office or by calling (814) 452-4857<br />
<br />
BUY NOW! 
STATUS:CONFIRMED
SEQUENCE:3
END:VEVENT
END:VCALENDAR