BEGIN:VCALENDAR
VERSION:2.0
CALSCALE:GREGORIAN
METHOD:REQUEST
PRODID:Erie Events
BEGIN:VEVENT
UID: 315069ead8bfd980e@
SUMMARY:Carmina Burana 
DTSTAMP:20260423T224311
DTSTART:20240511T200000
DTEND:20240511T200000
LOCATION:
DESCRIPTION:May 11, 2024<br />
8:00pm<br />
<br />
Warner Theatre<br />
<br />
An Erie Philharmonic Symphonic Concert<br />
<br />
Mendelssohn Violin Concerto<br />
Stella Chen, violin<br />
<br />
Orff Carmina Burana<br />
Teresa Perrotta, soprano<br />
Arnold Livingston Geis, tenor<br />
Jonathan McCullough, baritone<br />
Erie Philharmonic Chorus<br />
Erie Philharmonic Youth Chorale<br />
<br />
Tickets at eriephil.org
STATUS:CONFIRMED
SEQUENCE:3
END:VEVENT
END:VCALENDAR