BEGIN:VCALENDAR
VERSION:2.0
CALSCALE:GREGORIAN
METHOD:REQUEST
PRODID:Erie Events
BEGIN:VEVENT
UID: 152169e77e5dc4448@
SUMMARY:A Motown Christmas
DTSTAMP:20260421T094045
DTSTART:20231211T193000
DTEND:20231211T193000
LOCATION:811 State Street Erie, PA 16501
DESCRIPTION:December 11, 2023<br />
Show time 7:30pm<br />
Doors 6:30pm<br />
<br />
Warner Theatre<br />
<br />
Featuring former members of The Temptations, The Miracles &amp; The Contours<br />
<br />
A Motown Christmas is a powerful family-oriented show combining Motown&#039;s greatest hits with everyone&#039;s favorite holiday classics.  This show features those famous Motown trademarks...dazzling choreography and unforgettable harmonies all performed in that memorable, soulful Motown style.​ This is an evening not to be missed, bring the family, dance, sing and enjoy this special, holiday spectacular. <br />
<br />
Tickets are $54.00, $49.00, $44.00<br />
<br />
Tickets can be purchased at the Erie Insurance Arena box office or by calling (814) 452-4857<br />
<br />
BUY NOW! 
STATUS:CONFIRMED
SEQUENCE:3
END:VEVENT
END:VCALENDAR