BEGIN:VCALENDAR
VERSION:2.0
CALSCALE:GREGORIAN
METHOD:REQUEST
PRODID:Erie Events
BEGIN:VEVENT
UID: 284869e7553319399@
SUMMARY:Annie
DTSTAMP:20260421T064507
DTSTART:20240214T193000
DTEND:20240214T193000
LOCATION:
DESCRIPTION:February 14 &amp; 15, 2024<br />
7:30pm<br />
<br />
Warner Theatre<br />
<br />
Presented by Broadway In Erie<br />
<br />
Holding onto hope when times are tough can take an awful lot of determination, and sometimes, an awful<br />
lot of determination comes in a surprisingly small package. Little Orphan Annie has reminded generations<br />
of theatergoers that sunshine is always right around the corner, and now the best-loved musical of all<br />
time is set to return in a new production–just as you remember it and just when we need it most. ANNIE,<br />
directed by Jenn Thompson, features the iconic book and score, written by Tony Award®-winners Thomas<br />
Meehan, Charles Strouse and Martin Charnin. This celebration of family, optimism and the American spirit<br />
remains the ultimate cure for all the hard knocks life throws your way.<br />
<br />
BroadwayInErie.com<br />
<br />
Tickets are  $74.00, $64.00, $54.00, $44.00 &amp; go on sale December 1 at 10:00am. <br />
<br />
Tickets can be purchased at the Erie Insurance Arena box office or by calling (814) 452-4857 <br />
<br />
BUY NOW! <br />
<br />
 
STATUS:CONFIRMED
SEQUENCE:3
END:VEVENT
END:VCALENDAR