BEGIN:VCALENDAR
VERSION:2.0
CALSCALE:GREGORIAN
METHOD:REQUEST
PRODID:Erie Events
BEGIN:VEVENT
UID: 209269e714bb91721@
SUMMARY:Eerie Horror Fest
DTSTAMP:20260421T021003
DTSTART:20231005T160000
DTEND:20231005T230000
LOCATION:
DESCRIPTION:October 4, 2023<br />
5:00pm - 11:00pm<br />
October 5, 2023<br />
4:00pm - 11:00pm<br />
October 6, 2023<br />
10:00am - 1:30am<br />
October 7, 2023<br />
10:00am - 1:30am<br />
<br />
Warner Theatre<br />
<br />
Presented by the Film Society of Northwestern Pennsylvania<br />
<br />
The Eerie Horror Fest is a four-day film festival in downtown Erie, Pennsylvania. It will feature a selection of short and feature-length films, workshops, celebrity meet and greets, cast and crew Q&amp;As, panel discussions, vendors, parties, and more. For filmmakers, artists, and those looking to break into the world of cinema, the event will include opportunities to learn, network, and have their ideas pitched to industry professionals.<br />
<br />
Event guests include Jenna Davis (Voice of M3GAN), Morricone Youth (NYC based rock band), members from the George A. Romero foundation, and famous Italian prog-rock band Claudio Simonetti’s Goblin. More to be announced!<br />
<br />
ALL ACCESS VIP PASS<br />
Price: $130<br />
 October 4 - 7, 2023<br />
<br />
Save on the entire Fest (October 4 – 7, 2023) with our All Access VIP Pass that includes full access to all screenings, special events, and celebrity meet &amp; greets. Purchasers will receive:<br />
<br />
Night of the Living Dead screening with live original score performed by Morricone Youth ticket (assigned seat)<br />
Admittance to Fest days 2-4 (open seating)<br />
Admittance to all workshops, panels, and other industry events (open seating)<br />
Claudio Simonetti&#039;s Goblin concert ticket (assigned seating)<br />
* Purchaser needs to choose seats for Night of the Living Dead on October 4th and for Claudio Simonetti’s Goblin concert on October 7th. Days 2-4 have open seating on the orchestra level. The balcony will be closed.<br />
<br />
** Does not include Opening Night Party<br />
<br />
BUY ALL ACCESS VIP PASS NOW!<br />
<br />
NIGHT OF THE LIVING DEAD WITH MORRICONE YOUTH<br />
Price: $25<br />
 Film screening with live original score performance by Morricone Youth<br />
 Wednesday, October 4, 2023; 8:00PM - 10:00PM<br />
<br />
The opening night event will feature a special introduction from a member of the George A. Romero foundation and live music accompaniment by the NYC based rock band, Morricone Youth.<br />
<br />
BUY MOVIE TICKETS NOW! <br />
<br />
BUY AFTER PARTY TICKETS NOW! <br />
<br />
THURSDAY DAY PASS<br />
Price: $25<br />
Thursday, October 5, 2023; 4:00pm-11:00pm<br />
<br />
Receive access to all screenings, workshops, panels, industry events, celebrity meet &amp; greets, and vendors.<br />
<br />
BUY THURSDAY DAY PASS NOW! <br />
<br />
FRIDAY DAY PASS<br />
Price: $30<br />
Friday, October 6, 2023; 10:00am-1:30am<br />
<br />
Receive access to all screenings, workshops, panels, industry events, celebrity meet &amp; greets, and vendors.<br />
<br />
BUY FRIDAY DAY PASS NOW! <br />
<br />
SATURDAY DAY PASS<br />
Price: $30<br />
Saturday, October 7, 2023; 10:00am-1:30am<br />
<br />
Receive access to all screenings, workshops, panels, industry events, celebrity meet &amp; greets, and vendors.<br />
<br />
Day Pass does NOT qualify for entry to the Claudio Simonetti&#039;s Goblin concert<br />
<br />
BUY SATURDAY DAY PASS NOW! <br />
<br />
SATURDAY DAY PASS + CLAUDIO SIMONETTI&#039;S GOBLIN CONCERT<br />
Price: $60<br />
Saturday, October 7, 2023; 10:00am-1:30am<br />
Goblin concert goes from 9:00pm-11:00pm<br />
<br />
The Eerie Horror Fest is offering a special Saturday Day Pass + Claudio Simonetti’s Goblin concert combo that includes access to all of Saturday&#039;s activities and celebrity meet &amp; greets plus Claudio Simonetti&#039;s Goblin concert.<br />
<br />
Purchaser will need to choose seats.<br />
<br />
BUY SATURDAY DAY PASS &amp; CONCERT TICKETS NOW! <br />
<br />
CLAUDIO SIMONETTI&#039;S GOBLIN CONCERT<br />
Price: $40<br />
Saturday, October 7, 2023; 9:00pm-11:00pm<br />
<br />
Performing in Erie, PA for the first time! The Eerie Horror Fest is making your horror dreams come true with the iconic progressive rock band Goblin playing LIVE at the Warner Theatre. The Claudio Simonetti&#039;s Goblin concert ticket gives purchasers a night to remember with a &#039;Best Of&#039; set including scores from Suspiria, Demons, Dawn of the Dead, Deep Red, and more!<br />
<br />
Purchaser will need to choose seats.<br />
<br />
BUY CONCERT TICKETS NOW! <br />
<br />
HOCUS POCUS EVENT<br />
$17.50 for ages 16+. Each paid adult is allowed to bring two children who are 15 years &amp; younger for free<br />
Saturday, October, 7, 2023<br />
<br />
UPMC Health Foundation is sponsoring the Eerie Horror Fest Hocus Pocus Event on Saturday, October 7th. This event will be geared towards family &amp; children and will feature the film Hocus Pocus, a presentation on child safety from UPMC nurses, &amp; trick or treating. Anyone with an All Access or Day Pass is automatically qualified for this event. <br />
<br />
Patrons can upgrade a Hocus Pocus Family ticket for a day pass or Saturday + concert bundle &amp; will be charged the difference of the $17.50 paid for the family event. If patrons who attend the family event in the morning want to buy tickets to the Goblin concert &amp; also want to bring children 15 &amp; under, the children will get a seat at no charge.  <br />
<br />
BUY HOCUS POCU EVENT NOW!<br />
<br />
Tickets can also be purchased at the Erie Insurance Arena box office or by calling (814) 452-4857<br />
<br />
Click HERE for more information about the Eerie Horror Fest
STATUS:CONFIRMED
SEQUENCE:3
END:VEVENT
END:VCALENDAR