BEGIN:VCALENDAR
VERSION:2.0
CALSCALE:GREGORIAN
METHOD:REQUEST
PRODID:Erie Events
BEGIN:VEVENT
UID: 211769e8a13a72bea@
SUMMARY:Joe Gatto&#039;s Night Of Comedy
DTSTAMP:20260422T062146
DTSTART:20231029T190000
DTEND:20231029T190000
LOCATION:
DESCRIPTION:Sunday, October 29, 2023<br />
Show time 7:00pm<br />
Doors 6:00pm<br />
<br />
Joe Gatto is a comedian best known from the hit TV shows “Impractical Jokers” and “The Misery Index.” He has toured with the Jokers live comedy show to sold-out crowds across the world, including legendary arenas, such as Madison Square Garden in New York and the O2 Arena in London. Currently, Joe tours with his stand-up solo show “Joe Gatto’s Night of Comedy” in sold out theaters across the United States. Joe is passionate about supporting anti-bullying organizations and animal rescue initiatives. He happily advocates for the “Adopt, Don’t Shop” movement with his non-profit Gatto Pups and Friends which operates on Long Island, NY catering to mainly senior and disabled pups. Joe also hosts a popular comedy podcast called &quot;Two Cool Moms&quot; on the iHeart Radio Podcast Network where he and his co-host dispenses sage motherly advice to fans who write in with their dilemmas. He also lives his life by a code of pastry and family, loving his wife, two children and cannoli.<br />
<br />
Parental discretion 16 &amp; up<br />
<br />
PLATINUM SEATING<br />
<br />
BUY NOW!<br />
<br />
MEET &amp; GREET $100.00<br />
<br />
POST Show Meet &amp; Greet/photo with Joe Gatto.<br />
Meet &amp; Greet ticket DOES NOT include a show ticket.<br />
A separate show ticket MUST be purchased to attend Meet &amp; Greet<br />
<br />
BUY MEET &amp; GREET NOW! <br />
<br />
Tickets are $59.75, $49.75, $39.75 + fees and can be purchased at the Erie Insurance Arena box office or by calling (814) 452-4857<br />
<br />
BUY NOW! 
STATUS:CONFIRMED
SEQUENCE:3
END:VEVENT
END:VCALENDAR