BEGIN:VCALENDAR
VERSION:2.0
CALSCALE:GREGORIAN
METHOD:REQUEST
PRODID:Erie Events
BEGIN:VEVENT
UID: 2848869e773171a60f@
SUMMARY:Warner Theatre Community Open House
DTSTAMP:20260421T085239
DTSTART:20230516T140000
DTEND:20230516T190000
LOCATION:
DESCRIPTION:May 16, 2023<br />
2:00pm - 7:00pm<br />
<br />
Warner Theatre<br />
<br />
Erie Events will host an Open House at the Warner Theatre on May 16, 2023 from 2:00pm - 7:00pm. The event is free and open to the public. Patrons are invited to tour the newly renovated theatre including the Grand Lobby, auditorium, rehearsal hall, backstage, balcony and dressing rooms. <br />
<br />
Patrons are asked to use the State Street entrance. <br />
<br />
More information about the Warner Theatre can be found at www.eriewarnertheatre.com<br />
<br />
Please call (814) 453-7117 with any questions. 
STATUS:CONFIRMED
SEQUENCE:3
END:VEVENT
END:VCALENDAR