BEGIN:VCALENDAR
VERSION:2.0
CALSCALE:GREGORIAN
METHOD:REQUEST
PRODID:Erie Events
BEGIN:VEVENT
UID: 418269ea7cc31d9e5@
SUMMARY:Erie SeaWolves vs. Bowie
DTSTAMP:20260423T161043
DTSTART:20230824T180500
DTEND:20230824T180500
LOCATION:
DESCRIPTION:August 22, 2023; 6:05pm<br />
August 23, 2023; 6:05pm<br />
August 24, 2023; 6:05pm<br />
August 25, 2023; 6:35pm<br />
August 26, 2023; 6:05pm<br />
August 27, 2023; 1:35pm<br />
<br />
UPMC Park<br />
<br />
Tickets at www.seawolves.com
STATUS:CONFIRMED
SEQUENCE:3
END:VEVENT
END:VCALENDAR