BEGIN:VCALENDAR
VERSION:2.0
CALSCALE:GREGORIAN
METHOD:REQUEST
PRODID:Erie Events
BEGIN:VEVENT
UID: 743969e76b543ddfc@
SUMMARY:Erie SeaWolves vs. Somerset
DTSTAMP:20260421T081932
DTSTART:20230523T180500
DTEND:20230523T180500
LOCATION:
DESCRIPTION:May 23, 2023; 6:05pm<br />
May 24, 2023: 11:05am<br />
May 25, 2023; 6:05pm<br />
May 26, 2023; 6:35pm<br />
May 27, 2023; 6:35pm<br />
May 28, 2023; 1:35pm<br />
<br />
UPMC Park<br />
<br />
Tickets at www.seawolves.com
STATUS:CONFIRMED
SEQUENCE:3
END:VEVENT
END:VCALENDAR