BEGIN:VCALENDAR
VERSION:2.0
CALSCALE:GREGORIAN
METHOD:REQUEST
PRODID:Erie Events
BEGIN:VEVENT
UID: 1342069e77ef57b5e5@
SUMMARY:Humane Society Mutt Gala
DTSTAMP:20260421T094317
DTSTART:20230429T173000
DTEND:20230429T223000
LOCATION:
DESCRIPTION:April 29, 2023<br />
5:30pm - 10:30pm<br />
<br />
Bayfront Convention Center<br />
<br />
Tickets $95.00<br />
<br />
Purchase at www.eriehumansociety.org
STATUS:CONFIRMED
SEQUENCE:3
END:VEVENT
END:VCALENDAR