BEGIN:VCALENDAR
VERSION:2.0
CALSCALE:GREGORIAN
METHOD:REQUEST
PRODID:Erie Events
BEGIN:VEVENT
UID: 732769e7659506f39@
SUMMARY:St. Martin Center Erie&#039;s Best Coffee
DTSTAMP:20260421T075501
DTSTART:20230226T110000
DTEND:20230226T140000
LOCATION:
DESCRIPTION:February 26, 2023<br />
11:00am - 2:00pm<br />
Bayfront Convention Center<br />
<br />
Erie&#039;s Best Coffee is BACK!<br />
<br />
Try coffee from a variety of shops and vote for YOUR favorite in several categories! Celebrity judges will also cast their votes for the Judges Choice award.<br />
<br />
This event is family-friendly as we also offer activities for kids.<br />
<br />
Follow us on Facebook (@StMartinCenter) and check out the event post for all the latest event details.<br />
<br />
Get your tickets now! Tickets are $10 in advance, $15 at the door, and ages 12 and under are free. (No refunds will be issued.)
STATUS:CONFIRMED
SEQUENCE:3
END:VEVENT
END:VCALENDAR