BEGIN:VCALENDAR
VERSION:2.0
CALSCALE:GREGORIAN
METHOD:REQUEST
PRODID:Erie Events
BEGIN:VEVENT
UID: 579469e766436fb50@
SUMMARY:Little Dance Studio presents A &quot;Little&quot; Home For The Holidays
DTSTAMP:20260421T075755
DTSTART:20221210T150000
DTEND:20221210T150000
LOCATION:
DESCRIPTION:December 10, 2022; 3:00pm<br />
Warner Theatre<br />
<br />
Tickets are available at Little Dance Studio
STATUS:CONFIRMED
SEQUENCE:3
END:VEVENT
END:VCALENDAR