BEGIN:VCALENDAR
VERSION:2.0
CALSCALE:GREGORIAN
METHOD:REQUEST
PRODID:Erie Events
BEGIN:VEVENT
UID: 824769e505c1b08af@
SUMMARY:Lake Erie Ballet presents The Nutcracker
DTSTAMP:20260419T124137
DTSTART:20221218T143000
DTEND:20221218T143000
LOCATION:
DESCRIPTION:Saturday, December 17, 2022; 7:00pm<br />
Sunday, December 18, 2022; 2:30pm<br />
<br />
Warner Theatre<br />
<br />
Lake Erie Ballet, under new direction, will continue this glorious tradition at the Warner Theater. “Erie’s NUTCRACKER Reimagined” is coming to the stage as a true WORLD PREMIERE right here in our amazing city.<br />
<br />
With tremendous community support, this truly iconic holiday staple will include the glorious history and beautiful landmarks of our amazing city set as a video backdrop and script!   Collaborating with Corella Productions, Sovereign Ballet, Cadence Dance Ensemble from Collegiate Academy, Marguerite School of Dance, Patterson School of Ballet, the fabulous Robert Martin, Shawn Clerkin, and Christina Maria, &quot;Erie&#039;s Nutcracker Reimagined&quot; will be the event of the season!  By infusing dialogue and singing to the unchanged score of Tchaikovsky under the baton of Jonathan Moser and the Lake Erie Ballet Company Orchestra along with the traditional choreography that we&#039;ve come to love,  this will be a one of a kind multimedia extravaganza that will only be seen right here in our hometown of Erie, PA!  Join us, for this extraordinary event where tradition is met with modern ingenuity!<br />
<br />
www.LakeErieBalletCompany.org<br />
<br />
Tickets can be purchased at the Erie Insurance Arena box office or by calling (814) 452-4857<br />
<br />
BUY NOW! 
STATUS:CONFIRMED
SEQUENCE:3
END:VEVENT
END:VCALENDAR