BEGIN:VCALENDAR
VERSION:2.0
CALSCALE:GREGORIAN
METHOD:REQUEST
PRODID:Erie Events
BEGIN:VEVENT
UID: 295169ed14ad27f11@
SUMMARY:&quot;The President&#039;s Own&quot; United States Marine Band
DTSTAMP:20260425T152325
DTSTART:20221004T193000
DTEND:20221004T193000
LOCATION:811 State Street Erie, PA 16501
DESCRIPTION:Tuesday, October 4, 2022; 7:30pm<br />
Warner Theatre<br />
<br />
SOLD OUT. Returned tickets may become available a few days before the concert.<br />
<br />
The Marine Corps League, Lake Erie Marines, Detachment 293 is proud to announce an evening with &quot;The President&#039;s Own U.S. Marine Band&quot;<br />
<br />
Tickets are free to the public (limit 4 per request)<br />
<br />
Tickets available starting September 6th, 6:00pm through www.ticketleap.com<br />
<br />
www.marineband.marines.mil
STATUS:CONFIRMED
SEQUENCE:3
END:VEVENT
END:VCALENDAR