BEGIN:VCALENDAR
VERSION:2.0
CALSCALE:GREGORIAN
METHOD:REQUEST
PRODID:Erie Events
BEGIN:VEVENT
UID: 2877769ebc8ce60fb7@
SUMMARY:Festival After Dark
DTSTAMP:20260424T154726
DTSTART:20221126T190000
DTEND:20221126T230000
LOCATION:
DESCRIPTION:Saturday, November 26, 2022<br />
7:00pm - 11:00pm<br />
<br />
Bayfront Convention Center<br />
<br />
A holiday themed adult only (21+) experience! Enjoy dancing in the gallery of trees to The Groove, adult train ride, Twelve Days of Christmas tasting menu, two drink tickets &amp; a sampling of local brews &amp; spirits. Tickets must be purchased by November 16, 2022. Purchase tickets at www.supportahn.org/festivalafterdark or Bayfront Convention Center 1 Sassafras Pier, Erie, PA 16507 Proceeds benefit the Nursing Education Fund.<br />
<br />
Admission: $70 per ticket<br />
<br />
Learn more by visiting www.supportahn.org/festivalafterdark<br />
<br />
Our Safe Event Pledge <br />
<br />
While we’re hopeful this event will be held in person, AHN closely monitors the coronavirus pandemic. We promise to adapt our event plans should there be a concern for the health and safety of attendees. If things change, we’ll update you as quickly as possible.<br />
<br />
ASSOCIATE TICKETS<br />
<br />
BUY NOW!<br />
<br />
PUBLIC SALE<br />
<br />
BUY NOW! 
STATUS:CONFIRMED
SEQUENCE:3
END:VEVENT
END:VCALENDAR