BEGIN:VCALENDAR
VERSION:2.0
CALSCALE:GREGORIAN
METHOD:REQUEST
PRODID:Erie Events
BEGIN:VEVENT
UID: 754069e763992aac9@
SUMMARY:Hamilton vs. Saginaw Exhibition Game
DTSTAMP:20260421T074633
DTSTART:20220903T140000
DTEND:20220903T140000
LOCATION:
DESCRIPTION:September 3, 2022; 2:00pm<br />
Erie Insurance Arena<br />
<br />
Tickets can be purchased at the Erie Insurance Arena box office or by calling (814) 452-4857<br />
<br />
BUY NOW! 
STATUS:CONFIRMED
SEQUENCE:3
END:VEVENT
END:VCALENDAR