BEGIN:VCALENDAR
VERSION:2.0
CALSCALE:GREGORIAN
METHOD:REQUEST
PRODID:Erie Events
BEGIN:VEVENT
UID: 417269e75374909ca@
SUMMARY:Saint Mary&#039;s Follies
DTSTAMP:20260421T063740
DTSTART:20220908T170000
DTEND:20220908T200000
LOCATION:
DESCRIPTION:September 8, 2022<br />
5:00pm - 8:00pm<br />
<br />
Bayfront Convention Center<br />
<br />
For tickets and information, please call (814) 836-4394<br />
<br />
www.stmaryshome.org
STATUS:CONFIRMED
SEQUENCE:3
END:VEVENT
END:VCALENDAR