BEGIN:VCALENDAR
VERSION:2.0
CALSCALE:GREGORIAN
METHOD:REQUEST
PRODID:Erie Events
BEGIN:VEVENT
UID: 852569e76331be77b@
SUMMARY:Erie Roller Derby
DTSTAMP:20260421T074449
DTSTART:20220903T190000
DTEND:20220903T190000
LOCATION:
DESCRIPTION:Saturday, September 3, 2022; 7:00pm<br />
Bayfront Convention Center<br />
<br />
Tickets can be purchased at www.erierollerderby.com
STATUS:CONFIRMED
SEQUENCE:3
END:VEVENT
END:VCALENDAR