BEGIN:VCALENDAR
VERSION:2.0
CALSCALE:GREGORIAN
METHOD:REQUEST
PRODID:Erie Events
BEGIN:VEVENT
UID: 627069e7505cc9b45@
SUMMARY:Toy Story in Concert
DTSTAMP:20260421T062428
DTSTART:20230218T200000
DTEND:20230218T200000
LOCATION:
DESCRIPTION:February 18, 2023; 8:00pm<br />
February 19, 2023; 3:00pm<br />
<br />
Warner Theatre<br />
<br />
Presented by the Erie Philharmonic<br />
<br />
Disney’s Pixar films are now legends in the cinema. Loved by audiences of all ages, these films bring touching and fun-filled stories to life through expertly rendered digital animation that sets the standard in today’s film-making. With a whiz-bang score by Randy Newman, 1995’s Toy Story delights with its vivid characters and imaginative situational humor. You will see the film in a huge digital print with all the original dialogue and sound effects. The score will be played live, in real-time, synchronized with the action by your own Erie Philharmonic. This is another sure-fire sell-out, so grab your tickets today!<br />
<br />
Presentation licensed by Disney Concerts. © All rights reserved.<br />
<br />
For tickets, call (814) 455-1375<br />
<br />
www.eriephil.org
STATUS:CONFIRMED
SEQUENCE:3
END:VEVENT
END:VCALENDAR