BEGIN:VCALENDAR
VERSION:2.0
CALSCALE:GREGORIAN
METHOD:REQUEST
PRODID:Erie Events
BEGIN:VEVENT
UID: 109269e69387d63dd@
SUMMARY:Tall Ships Erie 2022
DTSTAMP:20260420T165847
DTSTART:20220825T160000
DTEND:20220825T160000
LOCATION:
DESCRIPTION:Thursday, August 25, 2022; 4:00pm<br />
Friday, August 26, 2022; 10:00am<br />
Saturday, August 27, 2022; 10:00am<br />
Sunday, August 28, 2022; 10:00am<br />
<br />
Bayfront Convention Center<br />
<br />
Join Erie in a four-day maritime celebration! Climb aboard and explore a fleet of tall ships, sail the day away on select ships, or enjoy many other festival highlights including live music and entertainment, children’s activities, a festival marketplace, food vendors, and much more.<br />
<br />
For more information, www.tallshipserie.org
STATUS:CONFIRMED
SEQUENCE:3
END:VEVENT
END:VCALENDAR