BEGIN:VCALENDAR
VERSION:2.0
CALSCALE:GREGORIAN
METHOD:REQUEST
PRODID:Erie Events
BEGIN:VEVENT
UID: 2072369e73e93e4af5@
SUMMARY:Legally Blonde
DTSTAMP:20260421T050835
DTSTART:20221206T193000
DTEND:20221206T193000
LOCATION:
DESCRIPTION:December 5, 2022; 7:30pm<br />
December 6, 2022; 7:30pm<br />
<br />
Warner Theatre<br />
<br />
Presented by Broadway In Erie <br />
<br />
Fabulously fun and international award-winning LEGALLY BLONDE - THE MUSICAL is the ultimate Broadway tribute to Girl Power! The story follows the transformation of Elle Woods as she tackles stereotypes, sexism, snobbery and scandal in pursuit of her dreams, and proves that you can be legally blonde and STILL the smartest person in the room. Based on the beloved movie, LEGALLY BLONDE - THE MUSICAL will take you from the sorority house to the halls of justice with Broadway’s brightest new heroine and, of course, her Chihuahua, Bruiser.<br />
“A high-energy… hymn to the glories of girlishness.” – The New York Times<br />
<br />
Single tickets go on sale Thursday, November 3rd at 10:00am  <br />
<br />
Tickets can be purchased at the Erie Insurance Arena box office, by calling (814) 452-4857 or www.broadwayinerie.com. <br />
<br />
BUY NOW! <br />
<br />
Tickets range from $39.00 - $69.00 + fees
STATUS:CONFIRMED
SEQUENCE:3
END:VEVENT
END:VCALENDAR