BEGIN:VCALENDAR
VERSION:2.0
CALSCALE:GREGORIAN
METHOD:REQUEST
PRODID:Erie Events
BEGIN:VEVENT
UID: 283069e53e4b6406e@
SUMMARY:Aladdin
DTSTAMP:20260419T164251
DTSTART:20221029T140000
DTEND:20221029T140000
LOCATION:
DESCRIPTION:October 27, 2022; 7:30pm<br />
October 28, 2022; 7:30pm<br />
October 29, 2022; 2:00pm &amp; 7:30pm<br />
October 30, 2022; 2:00pm<br />
<br />
Doors open one hour prior to show time<br />
<br />
Warner Theatre<br />
<br />
Presented by Broadway In Erie<br />
<br />
Discover a whole new world at Disney’s ALADDIN, the hit Broadway musical. From the producer of The Lion King comes the timeless story of ALADDIN, a thrilling new production filled with unforgettable beauty, magic, comedy and breathtaking spectacle. It’s an extraordinary theatrical event where one lamp and three wishes make the possibilities infinite. Hailed by USA Today as “Pure Genie-Us,” ALADDIN features all your favorite songs from the film as well as new music written by Tony® and Academy Award® winner Alan Menken (Newsies) with lyrics penned by the legendary Howard Ashman (Beauty and the Beast), Tony Award winner Tim Rice (The Lion King, Aida), and book writer Chad Beguelin (The Wedding Singer). Directed and choreographed by Tony Award winner Casey Nicholaw (The Book of Mormon, Something Rotten!), this “Fabulous” and “Extravagant” (The New York Times) new musical boasts an incomparable design team, with sets, costumes and lighting from Tony Award winners Bob Crowley (Mary Poppins), Gregg Barnes (Kinky Boots), and Natasha Katz (An American in Paris). See why audiences and critics agree, ALADDIN is “Exactly What You Wish For!” (NBC-TV).<br />
<br />
Tickets can be purchased at the Erie Insurance Arena box office, by calling (814) 452-4857 or www.broadwayinerie.com. <br />
<br />
 PUBLIC SALE<br />
<br />
BUY NOW! <br />
<br />
Tickets range from $39.00 - $79.00 + fees<br />
<br />
 <br />
<br />
 
STATUS:CONFIRMED
SEQUENCE:3
END:VEVENT
END:VCALENDAR