BEGIN:VCALENDAR
VERSION:2.0
CALSCALE:GREGORIAN
METHOD:REQUEST
PRODID:Erie Events
BEGIN:VEVENT
UID: 1255169e7663e24179@
SUMMARY:Clay Walker - CANCELLED
DTSTAMP:20260421T075750
DTSTART:20220929T193000
DTEND:20220929T193000
LOCATION:
DESCRIPTION:With Special Guest Tracy Byrd<br />
<br />
September 29, 2022; 7:30pm<br />
Warner Theatre<br />
<br />
This show has been cancelled <br />
Patrons who have purchased tickets will be fully refunded.<br />
<br />
If you purchased your tickets with a credit card from www.erieevents.com, your account will automatically be refunded within ten days. For other purchases, please visit or contact the Erie Insurance Arena box office (814) 452-4857.
STATUS:CONFIRMED
SEQUENCE:3
END:VEVENT
END:VCALENDAR