BEGIN:VCALENDAR
VERSION:2.0
CALSCALE:GREGORIAN
METHOD:REQUEST
PRODID:Erie Events
BEGIN:VEVENT
UID: 315569e88c8f5a2d9@
SUMMARY:Erie Otters Home Opener vs. London
DTSTAMP:20260422T045335
DTSTART:20221008T190000
DTEND:20221008T190000
LOCATION:
DESCRIPTION:Saturday, October 8, 2022; 7:00pm<br />
Erie Insurance Arena<br />
<br />
www.ottershockey.com<br />
<br />
Tickets can be purchased at the Erie Insurance Arena Box office or by calling (814) 452-4857<br />
<br />
BUY NOW! <br />
<br />
 
STATUS:CONFIRMED
SEQUENCE:3
END:VEVENT
END:VCALENDAR