BEGIN:VCALENDAR
VERSION:2.0
CALSCALE:GREGORIAN
METHOD:REQUEST
PRODID:Erie Events
BEGIN:VEVENT
UID: 1108369eb1f333f581@
SUMMARY:Cat Fanciers Association Great Lakes Region Awards Show
DTSTAMP:20260424T034347
DTSTART:20220611T090000
DTEND:20220611T160000
LOCATION:
DESCRIPTION:Saturday &amp; Sunday<br />
 June 11 &amp; 12, 2022<br />
10:00am-5:00pm both days<br />
<br />
Bayfront Convention Center<br />
<br />
For more information, visit www.cfa.org
STATUS:CONFIRMED
SEQUENCE:3
END:VEVENT
END:VCALENDAR