BEGIN:VCALENDAR
VERSION:2.0
CALSCALE:GREGORIAN
METHOD:REQUEST
PRODID:Erie Events
BEGIN:VEVENT
UID: 764969e7624d75802@
SUMMARY:Little Dance Studio Annual Recital
DTSTAMP:20260421T074101
DTSTART:20220604T183000
DTEND:20220604T183000
LOCATION:
DESCRIPTION:Friday, June 3, 2022; 6:30pm<br />
Saturday, June 4, 2022; 6:30pm<br />
<br />
Warner Theatre<br />
<br />
For more information, visit www.ldserie.com
STATUS:CONFIRMED
SEQUENCE:3
END:VEVENT
END:VCALENDAR