BEGIN:VCALENDAR
VERSION:2.0
CALSCALE:GREGORIAN
METHOD:REQUEST
PRODID:Erie Events
BEGIN:VEVENT
UID: 626569e766289e3dc@
SUMMARY:Wheel Of Fortune - Cancelled
DTSTAMP:20260421T075728
DTSTART:20221019T193000
DTEND:20221019T193000
LOCATION:811 State Street Erie, PA 16501
DESCRIPTION:October 19, 2022; 7:30pm<br />
Warner Theatre<br />
<br />
This show has been cancelled and cannot be rescheduled at this time due to scheduling conflicts.<br />
<br />
If you purchased your tickets with a credit card from www.erieevents.com, your account will automatically be refunded within ten days. For other purchases, please visit or contact the Erie Insurance Arena box office (814) 452-4857.<br />
<br />
Go to www.WheelofFortuneLive.com to see where else the tour will be.<br />
<br />
 
STATUS:CONFIRMED
SEQUENCE:3
END:VEVENT
END:VCALENDAR