BEGIN:VCALENDAR
VERSION:2.0
CALSCALE:GREGORIAN
METHOD:REQUEST
PRODID:Erie Events
BEGIN:VEVENT
UID: 728869eb1c7877ffd@
SUMMARY:Long&#039;s School Of Dance Recital
DTSTAMP:20260424T033208
DTSTART:20220611T190000
DTEND:20220611T190000
LOCATION:
DESCRIPTION:Friday, June 10, 2022; 7:00pm<br />
Saturday, June 11, 2022; 7:00pm<br />
<br />
Warner Theatre<br />
<br />
Tickets go on sale May 4th at 10:00am.<br />
<br />
Tickets can be purchased at the Erie Insurance Arena box office or by calling (814) 452-4857<br />
<br />
FRIDAY TICKETS<br />
<br />
BUY NOW!<br />
<br />
SATURDAY TICKETS<br />
<br />
BUY NOW! 
STATUS:CONFIRMED
SEQUENCE:3
END:VEVENT
END:VCALENDAR