BEGIN:VCALENDAR
VERSION:2.0
CALSCALE:GREGORIAN
METHOD:REQUEST
PRODID:Erie Events
BEGIN:VEVENT
UID: 513669e7549b30c5d@
SUMMARY:Erie SeaWolves vs. Altoona Curve
DTSTAMP:20260421T064235
DTSTART:20220909T180500
DTEND:20220909T180500
LOCATION:
DESCRIPTION:September 6, 2022; 6:05pm<br />
September 7, 2022; 6:05pm<br />
September 8, 2022; 6:05pm<br />
September 9, 2022; 6:05pm<br />
September 10, 2022; 4:05pm<br />
September 11, 2022; 1:35pm<br />
<br />
UPMC Park<br />
<br />
For tickets, call (814) 456-1300<br />
<br />
www.seawolves.com
STATUS:CONFIRMED
SEQUENCE:3
END:VEVENT
END:VCALENDAR